BEGIN:VCALENDAR
VERSION:2.0
PRODID:-//hacksw/handcal//NONSGML v1.0//EN
CALSCALE:GREGORIAN
BEGIN:VEVENT
UID:69e767d9f2cd2
DTSTAMP:20260421T120441Z
DESCRIPTION:[N] Ohio Wesleyan University Wrestling at Adrian Invite 9th of 11
SUMMARY:Ohio Wesleyan University Wrestling at Adrian Invite
DTSTART:20241102T130000Z
DTEND:20241102T160000Z
END:VEVENT
END:VCALENDAR
