BEGIN:VCALENDAR
VERSION:2.0
PRODID:-//hacksw/handcal//NONSGML v1.0//EN
CALSCALE:GREGORIAN
BEGIN:VEVENT
UID:69e89fe8f0cd8
DTSTAMP:20260422T101608Z
DESCRIPTION:[N] Ohio Wesleyan University Wrestling at Albion Invitational 10th of 17 https://www.battlingbishops.com/calendar.aspx?game_id=8713&amp\;sport_id=23
SUMMARY:Ohio Wesleyan University Wrestling at Albion Invitational
DTSTART:20231119T170000Z
DTEND:20231119T200000Z
END:VEVENT
END:VCALENDAR
