BEGIN:VCALENDAR
VERSION:2.0
PRODID:-//hacksw/handcal//NONSGML v1.0//EN
CALSCALE:GREGORIAN
BEGIN:VEVENT
UID:69e91f1838305
DTSTAMP:20260422T191848Z
DESCRIPTION:[N] Ohio Wesleyan University Wrestling at Albion Open not scored
SUMMARY:Ohio Wesleyan University Wrestling at Albion Open
DTSTART:20241117T170000Z
DTEND:20241117T200000Z
END:VEVENT
END:VCALENDAR
