BEGIN:VCALENDAR
VERSION:2.0
PRODID:-//hacksw/handcal//NONSGML v1.0//EN
CALSCALE:GREGORIAN
BEGIN:VEVENT
UID:69e84a7dc3ffb
DTSTAMP:20260422T041141Z
DESCRIPTION:[N] Ohio Wesleyan University Wrestling at Bob Del Rosa Ohio Intercollegiate Open T21st of 32
SUMMARY:Ohio Wesleyan University Wrestling at Bob Del Rosa Ohio Intercollegiate Open
DTSTART:20241110T150000Z
DTEND:20241110T180000Z
END:VEVENT
END:VCALENDAR
