BEGIN:VCALENDAR
VERSION:2.0
PRODID:-//hacksw/handcal//NONSGML v1.0//EN
CALSCALE:GREGORIAN
BEGIN:VEVENT
UID:69e9ac31e77fd
DTSTAMP:20260423T052049Z
DESCRIPTION:[N] Ohio Wesleyan University Wrestling at BW Invitational 10th of 12
SUMMARY:Ohio Wesleyan University Wrestling at BW Invitational
DTSTART:20241123T150000Z
DTEND:20241123T180000Z
END:VEVENT
END:VCALENDAR
