BEGIN:VCALENDAR
VERSION:2.0
PRODID:-//hacksw/handcal//NONSGML v1.0//EN
CALSCALE:GREGORIAN
BEGIN:VEVENT
UID:69eca6b17df21
DTSTAMP:20260425T113409Z
DESCRIPTION:[N] Ohio Wesleyan University Wrestling at Jamestown Open not scored
SUMMARY:Ohio Wesleyan University Wrestling at Jamestown Open
DTSTART:20250126T140000Z
DTEND:20250126T170000Z
END:VEVENT
END:VCALENDAR
