BEGIN:VCALENDAR
VERSION:2.0
PRODID:-//hacksw/handcal//NONSGML v1.0//EN
CALSCALE:GREGORIAN
BEGIN:VEVENT
UID:69ed7ff3e2da3
DTSTAMP:20260426T030107Z
DESCRIPTION:[N] Ohio Wesleyan University Wrestling at John Summa Invitational 9th of 13
SUMMARY:Ohio Wesleyan University Wrestling at John Summa Invitational
DTSTART:20250208T150000Z
DTEND:20250208T180000Z
END:VEVENT
END:VCALENDAR
