BEGIN:VCALENDAR
VERSION:2.0
PRODID:-//hacksw/handcal//NONSGML v1.0//EN
CALSCALE:GREGORIAN
BEGIN:VEVENT
UID:69e81460dd714
DTSTAMP:20260422T002048Z
DESCRIPTION:[N] Ohio Wesleyan University Wrestling at ONU Invitational 11th of 14Streaming Video: https://boxcast.tv/view/wrestling--onu-invitational-tegc6kfxtwghabohcyi3 https://www.battlingbishops.com/calendar.aspx?game_id=8714&amp\;sport_id=23
SUMMARY:Ohio Wesleyan University Wrestling at ONU Invitational
DTSTART:20231202T140000Z
DTEND:20231202T170000Z
END:VEVENT
END:VCALENDAR
