BEGIN:VCALENDAR
VERSION:2.0
PRODID:-//hacksw/handcal//NONSGML v1.0//EN
CALSCALE:GREGORIAN
BEGIN:VEVENT
UID:69e73ab4513b8
DTSTAMP:20260421T085204Z
DESCRIPTION:[N] Ohio Wesleyan University Wrestling at ONU Invitational 9th of 12Streaming Video: https://boxcast.tv/view/wrestling--onu-invitational-wblihjeprprm1b9wkn7n
SUMMARY:Ohio Wesleyan University Wrestling at ONU Invitational
DTSTART:20241207T140000Z
DTEND:20241207T170000Z
END:VEVENT
END:VCALENDAR
