BEGIN:VCALENDAR
VERSION:2.0
PRODID:-//hacksw/handcal//NONSGML v1.0//EN
CALSCALE:GREGORIAN
BEGIN:VEVENT
UID:69ebf8848c071
DTSTAMP:20260424T231100Z
DESCRIPTION:[N] Ohio Wesleyan University Wrestling at Spartan Mat Classic 8th of 9
SUMMARY:Ohio Wesleyan University Wrestling at Spartan Mat Classic
DTSTART:20250118T140000Z
DTEND:20250118T170000Z
END:VEVENT
END:VCALENDAR
