BEGIN:VCALENDAR
VERSION:2.0
PRODID:-//hacksw/handcal//NONSGML v1.0//EN
CALSCALE:GREGORIAN
BEGIN:VEVENT
UID:69ecfb9cbd885
DTSTAMP:20260425T173628Z
DESCRIPTION:[N] Ohio Wesleyan University Wrestling at Wabash Invitational not scored
SUMMARY:Ohio Wesleyan University Wrestling at Wabash Invitational
DTSTART:20250201T140000Z
DTEND:20250201T170000Z
END:VEVENT
END:VCALENDAR
