BEGIN:VCALENDAR
VERSION:2.0
PRODID:-//hacksw/handcal//NONSGML v1.0//EN
CALSCALE:GREGORIAN
BEGIN:VEVENT
UID:69ea379cceb6e
DTSTAMP:20260423T151540Z
DESCRIPTION:[N] Ohio Wesleyan University Wrestling vs Otterbein not scored https://www.battlingbishops.com/calendar.aspx?game_id=8711&amp\;sport_id=23
SUMMARY:Ohio Wesleyan University Wrestling vs Otterbein
DTSTART:20231101T210000Z
DTEND:20231102T000000Z
END:VEVENT
END:VCALENDAR
