BEGIN:VCALENDAR
VERSION:2.0
PRODID:-//hacksw/handcal//NONSGML v1.0//EN
CALSCALE:GREGORIAN
BEGIN:VEVENT
UID:69eb625166d5e
DTSTAMP:20260424T123009Z
DESCRIPTION:Ohio Wesleyan University Wrestling vs Pitt-Bradford
SUMMARY:Ohio Wesleyan University Wrestling vs Pitt-Bradford
DTSTART:20250105T180000Z
DTEND:20250105T210000Z
END:VEVENT
END:VCALENDAR
