BEGIN:VCALENDAR
VERSION:2.0
PRODID:-//hacksw/handcal//NONSGML v1.0//EN
CALSCALE:GREGORIAN
BEGIN:VEVENT
UID:69e7965796bc1
DTSTAMP:20260421T152303Z
DESCRIPTION:[W] Ohio Wesleyan University Wrestling vs WilmingtonW 42-9Streaming Video: https://www.northcoastnetwork.com/ohiowesleyan/ https://www.battlingbishops.com/calendar.aspx?game_id=8715&amp\;sport_id=23
SUMMARY:Ohio Wesleyan University Wrestling vs Wilmington
DTSTART:20231208T230000Z
DTEND:20231209T020000Z
END:VEVENT
END:VCALENDAR
