BEGIN:VCALENDAR
VERSION:2.0
PRODID:-//hacksw/handcal//NONSGML v1.0//EN
CALSCALE:GREGORIAN
BEGIN:VEVENT
UID:69e9e721158a6
DTSTAMP:20260423T093217Z
DESCRIPTION:Open Studio Day with the OWU Department of Fine Arts\, in Edgar Hall\, 35 S. Sandusky St.\, Delaware. Open Studio Day will include demonstrations\, informational sessions\, and presentations in many of the studio and classroom spaces on all four floors of the Fine Arts building. Guests will be able to meet Ohio Wesleyan professors and learn more about the OWU Fine Arts experience. Visitors also will be able to see a special exhibit of works created by high school students in the Buckeye Valley\, Delaware City\, and Olentangy school districts. This exhibit will be on display in the Werner Gallery through Nov. 15. The gallery is open from 9 a.m. to 3 p.m. Monday through Friday when classes are in session. Admission is free. Learn more at&nbsp\;owu.edu/FineArts.
SUMMARY:Open Studio Day
DTSTART:20231104T180000Z
DTEND:20231104T190000Z
END:VEVENT
END:VCALENDAR
