BEGIN:VCALENDAR
VERSION:2.0
PRODID:-//hacksw/handcal//NONSGML v1.0//EN
CALSCALE:GREGORIAN
BEGIN:VEVENT
UID:69e8e14b40c09
DTSTAMP:20260422T145507Z
DESCRIPTION:An opening reception will be held from 5-7 p.m. Nov. 16\, with refreshments provided for the &ldquo\;Move: Mobility\, Migration\, and Belonging&rdquo\; exhibition&nbsp\;at Ohio Wesleyan&rsquo\;s Richard M. Ross Art Museum\, 60 S. Sandusky St.\, Delaware.&nbsp\;
The exhibition of artwork from significant local and regional artists is curated to coincide with OWU&rsquo\;s first-year seminar\, &ldquo\;How to Change Your World\,&rdquo\; and will be on display through March 24\, 2024. The seminar is structured annually around a pressing issue of immediate relevance to contemporary life.
The Ross Art Museum&rsquo\;s companion exhibit showcases artistic practices that consider how water has affected movement and belonging across history\, place\, and species.
During the academic year\, the Ross Art Museum is open Tuesday\, Wednesday\, and Friday from 10 a.m. to 5 p.m.\; Thursday from 10 a.m. to 9 p.m.\; and Sunday from 1 p.m. to 5 p.m. The Ross will be closed for Thanksgiving break from Nov. 20-24\, for winter break from Dec. 17-Jan. 16\, 2024\; and for spring break from March 9-17. The museum is handicap-accessible and admission is always free.
Call (740) 368-3606 or visit owu.edu/ross for more information.
SUMMARY:Opening Reception: “Move: Mobility\, Migration\, and Belonging” Art Exhibit
DTSTART:20231116T220000Z
DTEND:20231117T000000Z
END:VEVENT
END:VCALENDAR
