BEGIN:VCALENDAR
VERSION:2.0
PRODID:-//hacksw/handcal//NONSGML v1.0//EN
CALSCALE:GREGORIAN
BEGIN:VEVENT
UID:69e814b3acd37
DTSTAMP:20260422T002211Z
DESCRIPTION:OWU Composition recital / junior recital\, with students of Dr. EunSeok Park\, featuring Maja Todorović &rsquo\;25\, in Jemison Auditorium inside Sanborn Hall\, 23 Elizabeth St.\, Delaware. Admission is free. For more information\, visit&nbsp\;owu.edu/PerformingArts.
SUMMARY:OWU Composition / Junior Recital: Students of Dr. EunSeok Park / Maja Todorović
DTSTART:20231203T000000Z
DTEND:20231203T010000Z
END:VEVENT
END:VCALENDAR
