BEGIN:VCALENDAR
VERSION:2.0
PRODID:-//hacksw/handcal//NONSGML v1.0//EN
CALSCALE:GREGORIAN
BEGIN:VEVENT
UID:69e984968b0b0
DTSTAMP:20260423T023150Z
DESCRIPTION:The OWU Meditation Circle\, facilitated by Dr. Mark Allison and hosted by the Chaplain's Office\, meets in Peale Chapel (3rd floor HWCC) Friday afternoons from 3:30-4:30.&nbsp\; Among other benefits\, meditation can help manage stress and promote self-awareness.&nbsp\; Anyone interested in learning or practicing meditation is welcome to attend\, regardless of your knowledge or experience level.&nbsp\; Students\, faculty\, and staff are all welcome to attend.
OWU Sponsoring Organization/Office: Chaplain's OfficeContact: Chad Johns at&nbsp\;cejohns@owu.edu
SUMMARY:OWU Meditation Circle
DTSTART:20240906T193000Z
DTEND:20240906T203000Z
END:VEVENT
END:VCALENDAR
