BEGIN:VCALENDAR
VERSION:2.0
PRODID:-//hacksw/handcal//NONSGML v1.0//EN
CALSCALE:GREGORIAN
BEGIN:VEVENT
UID:69e8b640377bc
DTSTAMP:20260422T115128Z
DESCRIPTION:Come together and meet other OWU alumni from the Ann Arbor area at&nbsp\;Casey's Tavern.&nbsp\;
There is no cost to register. Food and beverages will be purchased by the attendees at the venue.&nbsp\;
REGISTER HERE!
Host: Kat Dudzik '03
SUMMARY:OWU Near You - Ann Arbor\, MI 
DTSTART:20240916T220000Z
DTEND:20240917T000000Z
END:VEVENT
END:VCALENDAR
