BEGIN:VCALENDAR
VERSION:2.0
PRODID:-//hacksw/handcal//NONSGML v1.0//EN
CALSCALE:GREGORIAN
BEGIN:VEVENT
UID:69e908681c412
DTSTAMP:20260422T174200Z
DESCRIPTION:Come together and meet other alumni from the Atlanta area at Bold Monk Brewing.
Cost is free to attend\, food and drinks may be purchased on location.
Register here!
Hosts:&nbsp\;Tom ('88) and Lorraine ('90) Simons and Craig Luke ('85)&nbsp\;
SUMMARY:OWU Near You - Atlanta
DTSTART:20240912T220000Z
DTEND:20240913T003000Z
END:VEVENT
END:VCALENDAR
