BEGIN:VCALENDAR
VERSION:2.0
PRODID:-//hacksw/handcal//NONSGML v1.0//EN
CALSCALE:GREGORIAN
BEGIN:VEVENT
UID:69e90868265d9
DTSTAMP:20260422T174200Z
DESCRIPTION:Come together and meet other OWU alumni from the Chicago area at Punch Bowl Social. &nbsp\;
There is no cost to register. Food and beverages will be purchased by the attendees at the venue.&nbsp\;
Register Here!
Hosts: Phoebe Bush '18
SUMMARY:OWU Near You - Chicago\, IL 
DTSTART:20240912T230000Z
DTEND:20240913T010000Z
END:VEVENT
END:VCALENDAR
