BEGIN:VCALENDAR
VERSION:2.0
PRODID:-//hacksw/handcal//NONSGML v1.0//EN
CALSCALE:GREGORIAN
BEGIN:VEVENT
UID:69e8f32567567
DTSTAMP:20260422T161117Z
DESCRIPTION:Come together and meet other alumni from the Cincinnati area at&nbsp\;All iN Golf.&nbsp\;
$10 fee per person (pay onsite) for Trackman golf simulators. You can play games\, courses\, or practice.
Snacks will be provided. Soda\, water\, beer and wine can be purchased at the venue.
REGISTER HERE!
Hosts: Tara (Shepherd) Kaiser ('91)\, Kim (Shepherd) Farrell ('93)\, and Kendall Kaiser ('20)&nbsp\;
SUMMARY:OWU Near You - Cincinnati 
DTSTART:20240913T230000Z
DTEND:20240914T010000Z
END:VEVENT
END:VCALENDAR
