BEGIN:VCALENDAR
VERSION:2.0
PRODID:-//hacksw/handcal//NONSGML v1.0//EN
CALSCALE:GREGORIAN
BEGIN:VEVENT
UID:69e908b405f06
DTSTAMP:20260422T174316Z
DESCRIPTION:Come together and meet other alumni from the Cleveland area at Collision Bend Brewing.
Cost is $10 and includes a drink and appetizers.&nbsp\;
Register here!
Hosts: Cleveland Alumni Regional Board
SUMMARY:OWU Near You - Cleveland\, OH 
DTSTART:20240912T220000Z
DTEND:20240913T000000Z
END:VEVENT
END:VCALENDAR
