BEGIN:VCALENDAR
VERSION:2.0
PRODID:-//hacksw/handcal//NONSGML v1.0//EN
CALSCALE:GREGORIAN
BEGIN:VEVENT
UID:69e865dc9ab08
DTSTAMP:20260422T060828Z
DESCRIPTION:Come together and meet other alumni from the Columbus area at&nbsp\;Land Grant Brewing. We have rented a couple of pickle ball courts for our group to use should you choose to play.&nbsp\;
Cost is $10 and includes a drink and appetizers.&nbsp\;
REGISTER HERE!
Hosts: Columbus Alumni Regional Board
SUMMARY:OWU Near You - Columbus\, OH 
DTSTART:20240919T220000Z
DTEND:20240920T000000Z
END:VEVENT
END:VCALENDAR
