BEGIN:VCALENDAR
VERSION:2.0
PRODID:-//hacksw/handcal//NONSGML v1.0//EN
CALSCALE:GREGORIAN
BEGIN:VEVENT
UID:69e89fe4eeae6
DTSTAMP:20260422T101604Z
DESCRIPTION:Come together and meet other OWU alumni from the Newport Beach/Orange County area at&nbsp\;Joey Newport Beach.&nbsp\;
There is no cost to register. Food and beverages will be purchased by the attendees at the venue.&nbsp\;
REGISTER HERE!
Host: Janet de Michaelis '74
SUMMARY:OWU Near You - Newport Beach\, CA 
DTSTART:20240917T213000Z
DTEND:20240917T233000Z
END:VEVENT
END:VCALENDAR
