BEGIN:VCALENDAR
VERSION:2.0
PRODID:-//hacksw/handcal//NONSGML v1.0//EN
CALSCALE:GREGORIAN
BEGIN:VEVENT
UID:69e877f17d59c
DTSTAMP:20260422T072537Z
DESCRIPTION:Come together and meet other alumni from the Seattle area at alumni owned&nbsp\;Elliott Bay Brewing.&nbsp\;
Cost is free to attend\, food and drinks may be purchased on location.
Register Here!
Host: Brent Norton '93
SUMMARY:OWU Near You - Seattle
DTSTART:20240918T220000Z
DTEND:20240919T000000Z
END:VEVENT
END:VCALENDAR
