BEGIN:VCALENDAR
VERSION:2.0
PRODID:-//hacksw/handcal//NONSGML v1.0//EN
CALSCALE:GREGORIAN
BEGIN:VEVENT
UID:69e91f185ecaa
DTSTAMP:20260422T191848Z
DESCRIPTION:Come together and meet other alumni from the Toledo area at the Toledo Country Club.&nbsp\;
Cost is free to attend\, food and drinks may be purchased on location.
Register Here!
Hosts: Thomas ('92) and Kelli ('93) Winston\; Susan and Thomas ('69) Palmer&nbsp\;
SUMMARY:OWU Near You - Toledo\, OH 
DTSTART:20240911T213000Z
DTEND:20240911T233000Z
END:VEVENT
END:VCALENDAR
