BEGIN:VCALENDAR
VERSION:2.0
PRODID:-//hacksw/handcal//NONSGML v1.0//EN
CALSCALE:GREGORIAN
BEGIN:VEVENT
UID:69e908b413966
DTSTAMP:20260422T174316Z
DESCRIPTION:Come together and meet other alumni from the Tucson area at Cafe Maggie.&nbsp\;
Cost is free to attend\, food and drinks may be purchased on location.
Register Here!
Hosts: Julie Karra ('01) and Kate Spaulding ('99)
SUMMARY:OWU Near You - Tucson\, AZ
DTSTART:20240912T130000Z
DTEND:20240912T143000Z
END:VEVENT
END:VCALENDAR
