BEGIN:VCALENDAR
VERSION:2.0
PRODID:-//hacksw/handcal//NONSGML v1.0//EN
CALSCALE:GREGORIAN
BEGIN:VEVENT
UID:69eb0f6220504
DTSTAMP:20260424T063618Z
DESCRIPTION:Join us for the OWU @ the Columbus Clippers game on Friday\, August 2. Game starts at 7:05 p.m..&nbsp\;
Cost: $10 -&nbsp\; Seats are located in first 2 rows of section 223.&nbsp\;
Promotion: Come searching for that lost shaker of salt with Margaritaville Night at Huntington Park and Margaritaville themed promos and music throughout the game as well as specials on your favorite beverages.
$5 FRIDAY!!!
REGISTER HERE
SUMMARY:OWU Night @ the Clippers 
DTSTART:20240802T230000Z
DTEND:20240803T020000Z
END:VEVENT
END:VCALENDAR
