BEGIN:VCALENDAR
VERSION:2.0
PRODID:-//hacksw/handcal//NONSGML v1.0//EN
CALSCALE:GREGORIAN
BEGIN:VEVENT
UID:69e9abfac3bf1
DTSTAMP:20260423T051954Z
DESCRIPTION:OWU Percussion Day\, directed by Chris Lizak\, in Jemison Auditorium inside Sanborn Hall\, 23 Elizabeth St.\, Delaware. Admission is free. For more information\, visit&nbsp\;owu.edu/PerformingArts.
SUMMARY:OWU Percussion Day
DTSTART:20241123T200000Z
DTEND:20241123T220000Z
END:VEVENT
END:VCALENDAR
