BEGIN:VCALENDAR
VERSION:2.0
PRODID:-//hacksw/handcal//NONSGML v1.0//EN
CALSCALE:GREGORIAN
BEGIN:VEVENT
UID:69e62ea21a3dd
DTSTAMP:20260420T134818Z
DESCRIPTION:Rafiki and the ENVS department are collaborating to host an event next Monday April 20th from 4-5:30pm. It's a climate change across the Caribbean event. The speaker will be Dr Rowley from the ENVS department\, this event will kick off the ENVS department's green week! It will be focused on sea levels rising in the Caribbean and the effects of natural disasters in the region on food production and how that could potentially affect those cultures and what becomes their staple foods over time.
OWU Sponsoring Organization/OfficeRafiki Wa Afrika in collaboration with ENVS Department | gaacheampong@owu.edu
SUMMARY:OWU Students: Climate Change &amp\; the Caribbean
DTSTART:20260420T200000Z
DTEND:20260420T213000Z
END:VEVENT
END:VCALENDAR
