BEGIN:VCALENDAR
VERSION:2.0
PRODID:-//hacksw/handcal//NONSGML v1.0//EN
CALSCALE:GREGORIAN
BEGIN:VEVENT
UID:69e938974d0c0
DTSTAMP:20260422T210735Z
DESCRIPTION:Josh Jones\, internationally acclaimed musician\, Principal Percussionist of Chicago&apos\;s Grant Park Orchestra\, and Sphinx Medal of Excellence recipient\, is widely recognized for his artistry and dedication to advancing and advocating for equity within the classical music field. Come hear how he is making a difference in the arts.
OWU Sponsoring Organization/OfficeHouse of Black Culture and the Central Ohio Symphony | wwhyer@owu.edu
SUMMARY:OWU Students: Community Conversation with Musician Josh Jones
DTSTART:20260423T200000Z
DTEND:20260423T213000Z
END:VEVENT
END:VCALENDAR
