BEGIN:VCALENDAR
VERSION:2.0
PRODID:-//hacksw/handcal//NONSGML v1.0//EN
CALSCALE:GREGORIAN
BEGIN:VEVENT
UID:69e67f22ca2c2
DTSTAMP:20260420T193146Z
DESCRIPTION:CPB proudly presents Day on the JAY: Arcade! It's our favorite time of the semester again! This Friday\, join us on the Merrick Rock Quad\, University and Elliott Lawns from 11:30am to 1:30pm. Get ready for an afternoon of groovy music\, endless excitement\, free giveaways and games such as Pac-Man\, laser tag\, air hockey\, a claw machine and more! We can't wait to see you bring that Oh-Wooo spirit! Game on Bishops.&nbsp\;
OWU Sponsoring Organization/OfficeCampus Programming Board | cpb@owu.edu
SUMMARY:OWU Students: Day on the JAY 
DTSTART:20260424T153000Z
DTEND:20260424T173000Z
END:VEVENT
END:VCALENDAR
