BEGIN:VCALENDAR
VERSION:2.0
PRODID:-//hacksw/handcal//NONSGML v1.0//EN
CALSCALE:GREGORIAN
BEGIN:VEVENT
UID:69e9388d21934
DTSTAMP:20260422T210725Z
DESCRIPTION:Join Creative Arts House and Bishop Way to eat snacks\, do paper weaving\, and learn about the effects of self-harm on mental health!
OWU Sponsoring Organization/OfficeCreative Arts House | ehholtsberry@owu.edu
SUMMARY:OWU Students: Healing From Self Harm Crafting Event
DTSTART:20260423T203000Z
DTEND:20260423T220000Z
END:VEVENT
END:VCALENDAR
