BEGIN:VCALENDAR
VERSION:2.0
PRODID:-//hacksw/handcal//NONSGML v1.0//EN
CALSCALE:GREGORIAN
BEGIN:VEVENT
UID:69ea0947a9d97
DTSTAMP:20260423T115759Z
DESCRIPTION:Late Night Breakfast is an OWU tradition!&nbsp\; Come eat your favorite breakfast foods\, spend time with friends\, and have a little fun while taking a break from studying for finals!&nbsp\; All you need to do is show up at Smith Dining between 9pm-11pm on Wednesday\, April 29.
OWU Sponsoring Organization/OfficeResidential Life &amp\; Dining Services | reslife@owu.edu
SUMMARY:OWU Students: Late Night Breakfast 
DTSTART:20260430T010000Z
DTEND:20260430T030000Z
END:VEVENT
END:VCALENDAR
