BEGIN:VCALENDAR
VERSION:2.0
PRODID:-//hacksw/handcal//NONSGML v1.0//EN
CALSCALE:GREGORIAN
BEGIN:VEVENT
UID:69e618a1779c2
DTSTAMP:20260420T121425Z
DESCRIPTION:

Join us for Live@OWU on 4/28/26 on Williams Dr! Doors open at 7pm\, DJ Lady Libra opens the show at 7:30pm and Plain White T's at 8:30pm.




Plain White T's Live@OWU is free for all Ohio Wesleyan Students&nbsp\;(ticket required)&nbsp\;and $5 for OWU guests.
Celebrate the end of the semester with an electrifying concert experience when&nbsp\;Plain White T's&nbsp\;takes the stage at OWU on Tuesday\, April 28\, 2026. Get ready for their infectious energy and catchy tunes! Before the main act\, make sure to arrive early and watch the opening performance by OWU student performer\,&nbsp\;DJ&nbsp\;Lady Libra.


&nbsp\;Food trucks: Dirty Frank's Hot Dog Palace + Seven Little Sliders
Reserve tickets here


We&apos\;re also looking for volunteers. If you&apos\;re interested\, sign up&nbsp\;here.
OWU Sponsoring Organization/OfficeStudent Engagement &amp\; Success | involveu@owu.edu
SUMMARY:OWU Students: Live@OWU featuring Plain White T's 
DTSTART:20260428T233000Z
DTEND:20260429T013000Z
END:VEVENT
END:VCALENDAR
