BEGIN:VCALENDAR
VERSION:2.0
PRODID:-//hacksw/handcal//NONSGML v1.0//EN
CALSCALE:GREGORIAN
BEGIN:VEVENT
UID:69e9388cba93a
DTSTAMP:20260422T210724Z
DESCRIPTION:Join the Psychology Student Board and Dr. Modica in a conversation this&nbsp\;Friday at 4:30pm (Merrick 202) about how ultra masculine online content creators may be putting their audiences at risk for body image difficulties and disordered eating habits.
OWU Sponsoring Organization/OfficePsychology Student Board | merios@owu.edu
SUMMARY:OWU Students: The Manosphere and Eating Disorders 
DTSTART:20260424T203000Z
DTEND:20260424T213000Z
END:VEVENT
END:VCALENDAR
