BEGIN:VCALENDAR
VERSION:2.0
PRODID:-//hacksw/handcal//NONSGML v1.0//EN
CALSCALE:GREGORIAN
BEGIN:VEVENT
UID:69ecc3e3cde98
DTSTAMP:20260425T133843Z
DESCRIPTION:Come relax with the therapy dogs before finals! They will be at the Ross Museum from 2-3pm Sunday the 26th for cuddles and kisses.
OWU Sponsoring Organization/OfficeRoss Art Museum | ramuseum@owu.edu
SUMMARY:OWU Students: Therapy Dogs @ The Ross
DTSTART:20260426T180000Z
DTEND:20260426T190000Z
END:VEVENT
END:VCALENDAR
