BEGIN:VCALENDAR
VERSION:2.0
PRODID:-//hacksw/handcal//NONSGML v1.0//EN
CALSCALE:GREGORIAN
BEGIN:VEVENT
UID:69e90868289f3
DTSTAMP:20260422T174200Z
DESCRIPTION:Ohio Wesleyan&rsquo\;s Park Avenue Jazz Ensemble\, conducted by instructor Kevin Turner\, in Gray Chapel inside University Hall\, 61 S. Sandusky St.\, Delaware. Admission is free. For more information\, visit owu.edu/PerformingArts.
SUMMARY:Park Avenue Jazz Ensemble Concert
DTSTART:20231115T010000Z
DTEND:20231115T030000Z
END:VEVENT
END:VCALENDAR
