BEGIN:VCALENDAR
VERSION:2.0
PRODID:-//hacksw/handcal//NONSGML v1.0//EN
CALSCALE:GREGORIAN
BEGIN:VEVENT
UID:69e95f588362b
DTSTAMP:20260422T235256Z
DESCRIPTION:Ohio Wesleyan Park Avenue Jazz Ensemble\, directed by faculty member Kevin Turner\, in Gray Chapel inside University Hall\, 61 S. Sandusky St.\, Delaware. Admission is free. For more information\, visit owu.edu/PerformingArts.
SUMMARY:Park Avenue Jazz Ensemble Concert
DTSTART:20241120T010000Z
DTEND:20241120T030000Z
END:VEVENT
END:VCALENDAR
