BEGIN:VCALENDAR
VERSION:2.0
PRODID:-//hacksw/handcal//NONSGML v1.0//EN
CALSCALE:GREGORIAN
BEGIN:VEVENT
UID:69ea7c9cc4a15
DTSTAMP:20260423T201004Z
DESCRIPTION:Ohio Wesleyan Percussion Ensemble Concert\, in Jemison Auditorium inside Sanborn Hall\, 23 Elizabeth St.\, Delaware. Admission is free. For more information\, visit&nbsp\;owu.edu/PerformingArts.
SUMMARY:Percussion Ensemble Concert
DTSTART:20260426T180000Z
DTEND:20260426T190000Z
END:VEVENT
END:VCALENDAR
