BEGIN:VCALENDAR
VERSION:2.0
PRODID:-//hacksw/handcal//NONSGML v1.0//EN
CALSCALE:GREGORIAN
BEGIN:VEVENT
UID:69e851b613db5
DTSTAMP:20260422T044230Z
DESCRIPTION:Tired of the rugby team trying to recruit you? Make your feelings known at our Pie a Rugger fundraising event September 20th at 5pm! You can get one pie for 3 dollars or two for 5 dollars. We will take cash (at time of event) or online donations. To donate online\, please select "other" under designation and type in women's rugby to the box. Take a screenshot of your online donation and bring it with you to cover your favorite ruggers in whipped cream.
OWU Sponsoring Organization/Office: Women's Rugby ClubContact: Jaime Riechmann at&nbsp\;frriechmann@owu.edu
SUMMARY:Pie a Rugger
DTSTART:20240920T210000Z
DTEND:20240920T220000Z
END:VEVENT
END:VCALENDAR
