BEGIN:VCALENDAR
VERSION:2.0
PRODID:-//hacksw/handcal//NONSGML v1.0//EN
CALSCALE:GREGORIAN
BEGIN:VEVENT
UID:69e85af569974
DTSTAMP:20260422T052157Z
DESCRIPTION:On April 2 at 5:30 p.m.\, OWU's only non-male a cappella group\, Pitch Black\, will be performing a short concert at the Amphitheater located next to the Hamilton-Williams Campus Center. Bring blankets or chairs to sit on the grass as you watch our members perform songs like Mr. Perfectly Fine by Taylor Swift\, Natural Woman as composed by Carole King\, and many more! If you have questions about the group or the event\, feel free to contact&nbsp\;jrshorey@owu.edu&nbsp\;or&nbsp\;ecmunro@owu.edu!
OWU Sponsoring Organization/Office: Pitch BlackContact: Emma Munro at&nbsp\;ecmunro@owu.edu
SUMMARY:Pitch Black Concert
DTSTART:20220402T213000Z
DTEND:20220402T223000Z
END:VEVENT
END:VCALENDAR
