BEGIN:VCALENDAR
VERSION:2.0
PRODID:-//hacksw/handcal//NONSGML v1.0//EN
CALSCALE:GREGORIAN
BEGIN:VEVENT
UID:69eac205e0b42
DTSTAMP:20260424T010613Z
DESCRIPTION:Ohio Wesleyan students compete in the Pitch OWU competition\, in Merrick Hall\, Room 301\, 65 S. Sandusky St.\, Delaware. The event is presented by The Woltemade Center for Economics\, Business and Entrepreneurship and enables students of all majors to pitch their entrepreneurial ideas to a panel of judges. The winner will receive a $1\,000 cash prize. Admission is free. Learn more about OWU&rsquo\;s Woltemade Center at owu.edu/woltemade.
SUMMARY:Pitch OWU
DTSTART:20231025T230000Z
DTEND:20231026T010000Z
END:VEVENT
END:VCALENDAR
