BEGIN:VCALENDAR
VERSION:2.0
PRODID:-//hacksw/handcal//NONSGML v1.0//EN
CALSCALE:GREGORIAN
BEGIN:VEVENT
UID:69e7e2d2a82e2
DTSTAMP:20260421T204922Z
DESCRIPTION:We know national elections can be stressful\, joyful\, fearful\, and more.&nbsp\; The Chaplain's Office will be offering drop-in hours on Wed\, Nov. 6 (the day after the election) with Chaplain Chad Johns (HWCC 308) and Associate Chaplain William Hayes (HWCC 217) from 10 am to 4 pm.&nbsp\; Stop by if you want a chance to process your response to the election (good\, bad\, or in-between) regardless of the outcome.
OWU Sponsoring Organization/Office: Chaplain's OfficeContact: Chad Johns at&nbsp\;chaplain@owu.edu
&nbsp\;
SUMMARY:Post Election Drop In Hours
DTSTART:20241106T150000Z
DTEND:20241106T210000Z
END:VEVENT
END:VCALENDAR
