BEGIN:VCALENDAR
VERSION:2.0
PRODID:-//hacksw/handcal//NONSGML v1.0//EN
CALSCALE:GREGORIAN
BEGIN:VEVENT
UID:69e877c555c7e
DTSTAMP:20260422T072453Z
DESCRIPTION:Learn about Google Professional Certificates and how they can help you reach your career goals. Participants will have the opportunity to enroll in a Google Professional Certificate Program for free (approximately $200 value)\, and possibly connect it to academic credit at OWU. This workshop is part of the Latham Bishop Ventures Program &ndash\; more information is below.&nbsp\;September 18th from 12 PM &ndash\; 1 PM &ndash\; R.W. Corns Building\, Room 312&nbsp\;Lunch will be provided.&nbsp\;Registration is required.&nbsp\;RSVP HERE.&nbsp\;The&nbsp\;Latham Bishop Ventures (LBV)&nbsp\;program is an institutional collaboration managed by The Woltemade Center to expand the scope and impact of entrepreneurial education and opportunities at OWU. Building upon the success of the Latham Entrepreneurial Scholars Program (LESP)\, LBV provides a comprehensive entrepreneurial ecosystem that is accessible to all interested OWU students. The program fosters and grows upon the entrepreneurial culture on campus\, attracts and retains entrepreneurially minded students\, and creates a community of students passionate about entrepreneurship and innovation.&nbsp\;
OWU Sponsoring Organization/Office: The Woltemade CenterContact: Dana Tuohy at&nbsp\;wcenter@owu.edu
SUMMARY:Power Skills Workshop: Google Professional Certificates
DTSTART:20240918T160000Z
DTEND:20240918T170000Z
END:VEVENT
END:VCALENDAR
