BEGIN:VCALENDAR
VERSION:2.0
PRODID:-//hacksw/handcal//NONSGML v1.0//EN
CALSCALE:GREGORIAN
BEGIN:VEVENT
UID:69eb9c07d9989
DTSTAMP:20260424T163623Z
DESCRIPTION:The Campus Programming Board invites the OWU community to join us at President's Ball on April 27\, 2024\, from 9-11:30pm on the JAYwalk. Tickets are free for OWU students\, faculty\, and staff (guests $5). The theme for this spring is Under the Stars. Cocktail attire is&nbsp\; requested.
Senior Cocktail Hour will take place in the Benes Room from 8-9pm. Drink tickets are $5 and can be purchased online or with cash at the door. If you are a senior planning to attend both Cocktail hour and President's Ball\, please request tickets for both events. Reserve Tickets at:&nbsp\;https://www.eventbrite.com/e/presidents-ball-tickets-874005462867&nbsp\;
For more information or questions\, feel free to reach out to cpb@owu.edu
SUMMARY:President's Ball
DTSTART:20240428T010000Z
DTEND:20240428T033000Z
END:VEVENT
END:VCALENDAR
