BEGIN:VCALENDAR
VERSION:2.0
PRODID:-//hacksw/handcal//NONSGML v1.0//EN
CALSCALE:GREGORIAN
BEGIN:VEVENT
UID:69e94b8c24a2b
DTSTAMP:20260422T222828Z
DESCRIPTION:The PG student board is hosting a Presidential Debate Watch Party\, Sept. 10 at 9 p.m. in the Smith Stairwell. Ohio Wesleyan students are invited to join the student board and watch the debate!
OWU Sponsoring Organization/Office: PG Student BoardContact: Deb Lovell at&nbsp\;pg@owu.edu
SUMMARY:Presidential Debate Watch Party
DTSTART:20240911T010000Z
DTEND:20240911T030000Z
END:VEVENT
END:VCALENDAR
