BEGIN:VCALENDAR
VERSION:2.0
PRODID:-//hacksw/handcal//NONSGML v1.0//EN
CALSCALE:GREGORIAN
BEGIN:VEVENT
UID:69ebe2f06e63a
DTSTAMP:20260424T213856Z
DESCRIPTION:Are you interested in learning more about careers in Counseling\, Psychology\, Social Work\, or related fields? If so\, join us on Tuesday\, October 10 from 12-12:50 pm in Merrick 301 for an event collaboration between the Psychology Student Board and Counseling Services! Members of the counseling team will be present to talk about their education\, previous work experience\, and how they got to where they are today\, as well as answer any specific questions you have. This event is open to ALL students\, regardless of major\, and there will be FREE Crumbl cookies! We hope to see you there!
OWU Sponsoring Organization/Office: Psychology Student BoardContact: Katie Chittum at&nbsp\;khchittum@owu.edu
&nbsp\;
SUMMARY:Psychology Student Board/Counseling Services Event Collaboration
DTSTART:20231010T160000Z
DTEND:20231010T165000Z
END:VEVENT
END:VCALENDAR
