BEGIN:VCALENDAR
VERSION:2.0
PRODID:-//hacksw/handcal//NONSGML v1.0//EN
CALSCALE:GREGORIAN
BEGIN:VEVENT
UID:69e7963f74f69
DTSTAMP:20260421T152239Z
DESCRIPTION:Rafiki wa Afrika\, OWU's African and Afro-Caribbean organization\, presents the Caribbean on Saturday\, September 28\, from 8-11 pm in the Benes Room! This event is Rafiki's fall Caribbean Party and its first celebration event of this semester on campus. We invite the whole campus community to join us for a night of laughter and fun! With dancing\, music\, and food from different Caribbean regions\, this isn't an event you'll want to miss. &nbsp\;Hope to see you there! If you have any questions\, feel free to email&nbsp\;rafiki@owu.edu! :)
OWU Sponsoring Organization/Office: Rafiki wa Afrika Contact: Gwendolyn Acheampong at&nbsp\;rafiki@owu.edu
SUMMARY:Rafiki's Caribbean Party
DTSTART:20240929T000000Z
DTEND:20240929T030000Z
END:VEVENT
END:VCALENDAR
